BEGIN:VCALENDAR
VERSION:2.0
PRODID:-//Tukios.com/
BEGIN:VEVENT
UID:f6370f9c-82af-4fad-a546-c380b15c9e59@www.memfuneral.com
DTSTAMP:20260422T122048Z
DTSTART:20260428T230000Z
DTEND:20260429T000000Z
SUMMARY:Memorial Service
DESCRIPTION:
URL:https://www.memfuneral.com/obituaries/nancy-moore
LOCATION:Christian Life Cathedral Chapel 1285 Millsap Rd.  Fayetteville 
	AR 72703
GEO:36.114876;-94.1409411
END:VEVENT
END:VCALENDAR