BEGIN:VCALENDAR
VERSION:2.0
PRODID:-//Tukios.com/
BEGIN:VEVENT
UID:3c9b895d-01d1-49f5-b61f-91d52bfc1d73@www.memfuneral.com
DTSTAMP:20260422T124939Z
DTSTART:20260502T160000Z
DTEND:20260502T170000Z
SUMMARY:Memorial Service
DESCRIPTION:
URL:https://www.memfuneral.com/obituaries/joy-may
LOCATION:Pleasant Hill Baptist Church 12845 Walnut Valley Road  Rogers AR 
	72756
GEO:36.3754069;-94.0966957
END:VEVENT
END:VCALENDAR